BEGIN:VCALENDAR
VERSION:2.0
PRODID:-//Kino Tuškanac//Filmski programi//HR
BEGIN:VEVENT
UID:a10a639a802df9220503c030b9974d33@kinotuskanac.hr
DTSTAMP:20260423T091253Z
DTSTART:20180425T190000
DTEND:20180425T210000
SUMMARY:Nagrađeni filmovi Annecy festivala 2017.
LOCATION:Kino Tuškanac
DESCRIPTION:
END:VEVENT
END:VCALENDAR