BEGIN:VCALENDAR
VERSION:2.0
PRODID:-//Kino Tuškanac//Filmski programi//HR
BEGIN:VEVENT
UID:5ddfc581fd14f8e73ba3cb0df70e46ff@kinotuskanac.hr
DTSTAMP:20260422T060956Z
DTSTART:20180507T210000
DTEND:20180507T230000
SUMMARY:Uho
LOCATION:Kino Tuškanac
DESCRIPTION:Ucho, Čehoslovačka, 1970 R: Karel Kachyňa
END:VEVENT
END:VCALENDAR