BEGIN:VCALENDAR
VERSION:2.0
PRODID:-//Kino Tuškanac//Filmski programi//HR
BEGIN:VEVENT
UID:e1b61588b46ea7660504c26410be9404@kinotuskanac.hr
DTSTAMP:20260423T013905Z
DTSTART:20050317T190000
DTEND:20050317T210000
SUMMARY:Tango za medvjeda
LOCATION:Kino Tuškanac
DESCRIPTION:Tango pre medveda, 1966 R: Stanislav Barabáš
END:VEVENT
END:VCALENDAR