BEGIN:VCALENDAR
VERSION:2.0
PRODID:-//Kino Tuškanac//Filmski programi//HR
BEGIN:VEVENT
UID:c0610fbf4063429979da5b57f7070296@kinotuskanac.hr
DTSTAMP:20260419T185611Z
DTSTART:20180512T190000
DTEND:20180512T210000
SUMMARY:Prvi juriš mačetom
LOCATION:Kino Tuškanac
DESCRIPTION:La Primera Carga Al Machete, Kuba, 1969 R: Manuel Octavio Gómez
END:VEVENT
END:VCALENDAR