BEGIN:VCALENDAR
VERSION:2.0
PRODID:-//Kino Tuškanac//Filmski programi//HR
BEGIN:VEVENT
UID:2fe2101a4af8619fa45031adb16fadf2@kinotuskanac.hr
DTSTAMP:20260423T175559Z
DTSTART:20180512T190000
DTEND:20180512T210000
SUMMARY:79 proljeća
LOCATION:Kino Tuškanac
DESCRIPTION:79 primaveras, Kuba, 1969 R: Santiago Álvarez
END:VEVENT
END:VCALENDAR