BEGIN:VCALENDAR
VERSION:2.0
PRODID:-//Kino Tuškanac//Filmski programi//HR
BEGIN:VEVENT
UID:0b77d247273aa86bf7688070aa62ef6d@kinotuskanac.hr
DTSTAMP:20260420T052538Z
DTSTART:20180512T210000
DTEND:20180512T230000
SUMMARY:Now!
LOCATION:Kino Tuškanac
DESCRIPTION:Kuba, 1965 R: Santiago Álvarez
END:VEVENT
END:VCALENDAR