BEGIN:VCALENDAR
VERSION:2.0
PRODID:-//Kino Tuškanac//Filmski programi//HR
BEGIN:VEVENT
UID:2de16d4b4b2bf5872e84391048a8d1f7@kinotuskanac.hr
DTSTAMP:20260423T175600Z
DTSTART:20180512T210000
DTEND:20180512T230000
SUMMARY:Hanoi, utorak 13.
LOCATION:Kino Tuškanac
DESCRIPTION:Hanoi, Martes 13, Kuba, 1968 R: Santiago Álvarez
END:VEVENT
END:VCALENDAR