BEGIN:VCALENDAR
VERSION:2.0
PRODID:-//Kino Tuškanac//Filmski programi//HR
BEGIN:VEVENT
UID:23085ef43b6c8fa23def5db0a960b970@kinotuskanac.hr
DTSTAMP:20260422T170559Z
DTSTART:20180513T190000
DTEND:20180513T210000
SUMMARY:Na drugom otoku
LOCATION:Kino Tuškanac
DESCRIPTION:En la Otra Isla, Kuba, 1968 R: Sara Gómez
END:VEVENT
END:VCALENDAR