BEGIN:VCALENDAR
VERSION:2.0
PRODID:-//Kino Tuškanac//Filmski programi//HR
BEGIN:VEVENT
UID:c6fb0c57bc520fd34b140769671a9b40@kinotuskanac.hr
DTSTAMP:20260422T082546Z
DTSTART:20050305T210000
DTEND:20050305T230000
SUMMARY:Pitanje vodstva
LOCATION:Kino Tuškanac
DESCRIPTION:A Question of Leadership, 1980 R: Ken Loach
END:VEVENT
END:VCALENDAR