BEGIN:VCALENDAR
VERSION:2.0
PRODID:-//Kino Tuškanac//Filmski programi//HR
BEGIN:VEVENT
UID:16a7efaca7bbb39f9da6be031be60078@kinotuskanac.hr
DTSTAMP:20260425T173928Z
DTSTART:20180522T190000
DTEND:20180522T210000
SUMMARY:Sivi vrtovi
LOCATION:Kino Tuškanac
DESCRIPTION:Grey Gardens, SAD, 1975 R: Albert Maysles, David Maysles
END:VEVENT
END:VCALENDAR