BEGIN:VCALENDAR
VERSION:2.0
PRODID:-//Kino Tuškanac//Filmski programi//HR
BEGIN:VEVENT
UID:e0893dcf3beb2970c07daf065c5f8d97@kinotuskanac.hr
DTSTAMP:20260420T200802Z
DTSTART:20180516T190000
DTEND:20180516T210000
SUMMARY:Nostalgija za svjetlom
LOCATION:Kino Tuškanac
DESCRIPTION:Nostalgia de la luz, Francuska, Njemačka, Čile, Španjolska, 2010 R: Patricio Guzmán
END:VEVENT
END:VCALENDAR