BEGIN:VCALENDAR
VERSION:2.0
PRODID:-//Kino Tuškanac//Filmski programi//HR
BEGIN:VEVENT
UID:708a6cf5572a3d8c623f45f66b2335f8@kinotuskanac.hr
DTSTAMP:20260422T012005Z
DTSTART:20050317T210000
DTEND:20050317T230000
SUMMARY:Pogledi i osmjesi
LOCATION:Kino Tuškanac
DESCRIPTION:Looks and Smiles, 1981 R: Ken Loach
END:VEVENT
END:VCALENDAR