BEGIN:VCALENDAR
VERSION:2.0
PRODID:-//Kino Tuškanac//Filmski programi//HR
BEGIN:VEVENT
UID:833d22a0f45aa728b047018571ea649d@kinotuskanac.hr
DTSTAMP:20260419T141524Z
DTSTART:20180524T210000
DTEND:20180524T230000
SUMMARY:Mediteranski prozori
LOCATION:Kino Tuškanac
DESCRIPTION:1960 R: Branko Belan
END:VEVENT
END:VCALENDAR