BEGIN:VCALENDAR
VERSION:2.0
PRODID:-//Kino Tuškanac//Filmski programi//HR
BEGIN:VEVENT
UID:607f146a1acb16cba850e4eff87c3206@kinotuskanac.hr
DTSTAMP:20260425T003846Z
DTSTART:20180527T210000
DTEND:20180527T230000
SUMMARY:Moj stan
LOCATION:Kino Tuškanac
DESCRIPTION:1962 R: Zvonimir Berković
END:VEVENT
END:VCALENDAR