BEGIN:VCALENDAR
VERSION:2.0
PRODID:-//Kino Tuškanac//Filmski programi//HR
BEGIN:VEVENT
UID:389aa93351aebb5bb90b7d92aeb59cf1@kinotuskanac.hr
DTSTAMP:20260424T212434Z
DTSTART:20180530T210000
DTEND:20180530T230000
SUMMARY:Poslije podne (Puška)
LOCATION:Kino Tuškanac
DESCRIPTION:Jugoslavija: Hrvatska, 1968 R: Lordan Zafranović
END:VEVENT
END:VCALENDAR