BEGIN:VCALENDAR
VERSION:2.0
PRODID:-//Kino Tuškanac//Filmski programi//HR
BEGIN:VEVENT
UID:0810b3df17ee5265aec412f307550b87@kinotuskanac.hr
DTSTAMP:20260420T052733Z
DTSTART:20180524T210000
DTEND:20180524T230000
SUMMARY:Martin u oblacima
LOCATION:Kino Tuškanac
DESCRIPTION:1961 R: Branko Bauer
END:VEVENT
END:VCALENDAR