BEGIN:VCALENDAR
VERSION:2.0
PRODID:-//Kino Tuškanac//Filmski programi//HR
BEGIN:VEVENT
UID:4f5088a25e6c7ddbcb6aba800e0e6f7f@kinotuskanac.hr
DTSTAMP:20260421T164312Z
DTSTART:20180525T190000
DTEND:20180525T210000
SUMMARY:Licem u lice
LOCATION:Kino Tuškanac
DESCRIPTION:Hrvatska, Jugoslavija, 1963 R: Branko Bauer
END:VEVENT
END:VCALENDAR