BEGIN:VCALENDAR
VERSION:2.0
PRODID:-//Kino Tuškanac//Filmski programi//HR
BEGIN:VEVENT
UID:3733fee30d87eb49d8b064f20c37940e@kinotuskanac.hr
DTSTAMP:20260420T100239Z
DTSTART:20180526T190000
DTEND:20180526T210000
SUMMARY:Prometej s otoka Viševice
LOCATION:Kino Tuškanac
DESCRIPTION:Jadran film, 1964 R: Vatroslav Mimica
END:VEVENT
END:VCALENDAR