BEGIN:VCALENDAR
VERSION:2.0
PRODID:-//Kino Tuškanac//Filmski programi//HR
BEGIN:VEVENT
UID:dff0292dea3612837ac55742bbac6722@kinotuskanac.hr
DTSTAMP:20260422T021135Z
DTSTART:20050329T190000
DTEND:20050329T210000
SUMMARY:Pogledi i osmjesi
LOCATION:Kino Tuškanac
DESCRIPTION:Looks and Smiles, 1981 R: Ken Loach
END:VEVENT
END:VCALENDAR