BEGIN:VCALENDAR
VERSION:2.0
PRODID:-//Kino Tuškanac//Filmski programi//HR
BEGIN:VEVENT
UID:86aa1144ce2fa6dddd56ed5ff039dbcd@kinotuskanac.hr
DTSTAMP:20260424T212343Z
DTSTART:20180615T190000
DTEND:20180615T210000
SUMMARY:Ja, crnac
LOCATION:Kino Tuškanac
DESCRIPTION:Moi, un noir, Francuska, 1958 R: Jean Rouch
END:VEVENT
END:VCALENDAR