BEGIN:VCALENDAR
VERSION:2.0
PRODID:-//Kino Tuškanac//Filmski programi//HR
BEGIN:VEVENT
UID:8ddff1ed1893ef2000da75f0d8ba3ddf@kinotuskanac.hr
DTSTAMP:20260423T134828Z
DTSTART:20180628T190000
DTEND:20180628T210000
SUMMARY:Jedna žena – jedan vek
LOCATION:Kino Tuškanac
DESCRIPTION:Srbija, 2010 R: Želimir Žilnik
END:VEVENT
END:VCALENDAR