BEGIN:VCALENDAR
VERSION:2.0
PRODID:-//Kino Tuškanac//Filmski programi//HR
BEGIN:VEVENT
UID:e06385efb93b782cebdc0e71d00f24e8@kinotuskanac.hr
DTSTAMP:20260425T015516Z
DTSTART:20180629T190000
DTEND:20180629T210000
SUMMARY:Lisice
LOCATION:Kino Tuškanac
DESCRIPTION:Jugoslavija, Jadran film, 1970 R: Krsto Papić
END:VEVENT
END:VCALENDAR