BEGIN:VCALENDAR
VERSION:2.0
PRODID:-//Kino Tuškanac//Filmski programi//HR
BEGIN:VEVENT
UID:af3a35bf3e24d7b204a7afd363182e29@kinotuskanac.hr
DTSTAMP:20260422T170912Z
DTSTART:20180706T190000
DTEND:20180706T210000
SUMMARY:Feniks
LOCATION:Kino Tuškanac
DESCRIPTION:Phoenix, Njemačka, Poljska, 2014 R: Christian Petzold
END:VEVENT
END:VCALENDAR