BEGIN:VCALENDAR
VERSION:2.0
PRODID:-//Kino Tuškanac//Filmski programi//HR
BEGIN:VEVENT
UID:865573616e5ec5abe7eab39801f33c0b@kinotuskanac.hr
DTSTAMP:20260423T113317Z
DTSTART:20180706T210000
DTEND:20180706T230000
SUMMARY:Još jedna godina
LOCATION:Kino Tuškanac
DESCRIPTION:Another Year, UK, 2010 R: Mike Leigh
END:VEVENT
END:VCALENDAR