BEGIN:VCALENDAR
VERSION:2.0
PRODID:-//Kino Tuškanac//Filmski programi//HR
BEGIN:VEVENT
UID:25adb8b401625c2a44b9bd5039df1c9b@kinotuskanac.hr
DTSTAMP:20260424T183215Z
DTSTART:20180710T210000
DTEND:20180710T230000
SUMMARY:Rim, otvoreni grad
LOCATION:Kino Tuškanac
DESCRIPTION:Roma, cittá aperta, 1945 R: Roberto Rossellini
END:VEVENT
END:VCALENDAR