BEGIN:VCALENDAR
VERSION:2.0
PRODID:-//Kino Tuškanac//Filmski programi//HR
BEGIN:VEVENT
UID:3ff3513487217ebbd8c032f2e4051fae@kinotuskanac.hr
DTSTAMP:20260420T133901Z
DTSTART:20180714T190000
DTEND:20180714T210000
SUMMARY:4 mjeseca, 3 tjedna i 2 dana
LOCATION:Kino Tuškanac
DESCRIPTION:4 luni, 3 saptamâni si 2 zile, Rumunjska, Belgija, 2007 R: Cristian Mungiu
END:VEVENT
END:VCALENDAR