BEGIN:VCALENDAR
VERSION:2.0
PRODID:-//Kino Tuškanac//Filmski programi//HR
BEGIN:VEVENT
UID:0ef0916765511a8e30a8ceabe4697529@kinotuskanac.hr
DTSTAMP:20260423T111513Z
DTSTART:20180716T210000
DTEND:20180716T230000
SUMMARY:Prezir
LOCATION:Kino Tuškanac
DESCRIPTION:Le mépris, Francuska, Italija, 1963 R: Jean-Luc Godard
END:VEVENT
END:VCALENDAR