BEGIN:VCALENDAR
VERSION:2.0
PRODID:-//Kino Tuškanac//Filmski programi//HR
BEGIN:VEVENT
UID:8d8de422ff7f23e8085d7314e72f8aca@kinotuskanac.hr
DTSTAMP:20260421T215800Z
DTSTART:20180720T210000
DTEND:20180720T230000
SUMMARY:Kongres
LOCATION:Kino Tuškanac
DESCRIPTION:The Congress, Izrael, Njemačka, Poljska, Luksemburg, Belgija, Francuska, 2013 R: Ari Folman
END:VEVENT
END:VCALENDAR