BEGIN:VCALENDAR
VERSION:2.0
PRODID:-//Kino Tuškanac//Filmski programi//HR
BEGIN:VEVENT
UID:6a17ee9c0384815c50b16c67301924fc@kinotuskanac.hr
DTSTAMP:20260421T113731Z
DTSTART:20180724T210000
DTEND:20180724T230000
SUMMARY:Pas lutalica
LOCATION:Kino Tuškanac
DESCRIPTION:Nora inu, Japan, 1949 R: Akira Kurosawa
END:VEVENT
END:VCALENDAR