BEGIN:VCALENDAR
VERSION:2.0
PRODID:-//Kino Tuškanac//Filmski programi//HR
BEGIN:VEVENT
UID:b8bb2c10eeb2894ea221684986caf3d4@kinotuskanac.hr
DTSTAMP:20260421T093006Z
DTSTART:20050329T210000
DTEND:20050329T230000
SUMMARY:Pričaj s njom
LOCATION:Kino Tuškanac
DESCRIPTION:Hable con ella, Španjolska, 2002 R: Pedro Almodóvar
END:VEVENT
END:VCALENDAR