BEGIN:VCALENDAR
VERSION:2.0
PRODID:-//Kino Tuškanac//Filmski programi//HR
BEGIN:VEVENT
UID:5d0561cc23fd6af651df5ad1bd7147a4@kinotuskanac.hr
DTSTAMP:20260420T195311Z
DTSTART:20180728T210000
DTEND:20180728T230000
SUMMARY:U magli
LOCATION:Kino Tuškanac
DESCRIPTION:In the Fog, Njemačka, Nizozemska, Bjelorusija, Rusija, Latvija, 2012 R: Sergej Loznica
END:VEVENT
END:VCALENDAR