BEGIN:VCALENDAR
VERSION:2.0
PRODID:-//Kino Tuškanac//Filmski programi//HR
BEGIN:VEVENT
UID:16ad66f19bfe22508fea093fb42d21ff@kinotuskanac.hr
DTSTAMP:20260420T135407Z
DTSTART:20180904T190000
DTEND:20180904T210000
SUMMARY:71 odlomak iz kronologije slučajnosti
LOCATION:Kino Tuškanac
DESCRIPTION:71 Fragmente einer Chronologie des Zufalls, Austrija, Njemačka, 1994 R: Michael Haneke
END:VEVENT
END:VCALENDAR