BEGIN:VCALENDAR
VERSION:2.0
PRODID:-//Kino Tuškanac//Filmski programi//HR
BEGIN:VEVENT
UID:92309f16ace3b2e1508f070e71eef150@kinotuskanac.hr
DTSTAMP:20260421T060639Z
DTSTART:20180905T190000
DTEND:20180905T210000
SUMMARY:Vrijeme vuka
LOCATION:Kino Tuškanac
DESCRIPTION:Le temps du loup, Francuska, Austrija, Njemačka, 2003 R: Michael Haneke
END:VEVENT
END:VCALENDAR