BEGIN:VCALENDAR
VERSION:2.0
PRODID:-//Kino Tuškanac//Filmski programi//HR
BEGIN:VEVENT
UID:01bf116e6f80fbf1b9ff7be16f502810@kinotuskanac.hr
DTSTAMP:20260421T055229Z
DTSTART:20180908T190000
DTEND:20180908T210000
SUMMARY:Skriveno
LOCATION:Kino Tuškanac
DESCRIPTION:Caché, Francuska, Austrija, Italija, Njemačka, 2005 R: Michael Haneke
END:VEVENT
END:VCALENDAR