BEGIN:VCALENDAR
VERSION:2.0
PRODID:-//Kino Tuškanac//Filmski programi//HR
BEGIN:VEVENT
UID:4a71c32e95b96992173cc267a533bde6@kinotuskanac.hr
DTSTAMP:20260419T224856Z
DTSTART:20180910T190000
DTEND:20180910T210000
SUMMARY:Premijera
LOCATION:Kino Tuškanac
DESCRIPTION:Opening Night, SAD, 1977 R: John Cassavetes
END:VEVENT
END:VCALENDAR