BEGIN:VCALENDAR
VERSION:2.0
PRODID:-//Kino Tuškanac//Filmski programi//HR
BEGIN:VEVENT
UID:e99b14cde21debefa26c75eb70228763@kinotuskanac.hr
DTSTAMP:20260419T225449Z
DTSTART:20180911T190000
DTEND:20180911T210000
SUMMARY:Zakasnjeli blues
LOCATION:Kino Tuškanac
DESCRIPTION:Too Late Blues, SAD, 1961 R: John Cassavetes
END:VEVENT
END:VCALENDAR