BEGIN:VCALENDAR
VERSION:2.0
PRODID:-//Kino Tuškanac//Filmski programi//HR
BEGIN:VEVENT
UID:fd56b2e44cce01bc520840669d955b6c@kinotuskanac.hr
DTSTAMP:20260424T153324Z
DTSTART:20180911T210000
DTEND:20180911T230000
SUMMARY:Muževi
LOCATION:Kino Tuškanac
DESCRIPTION:Husbands, SAD, 1970 R: John Cassavetes
END:VEVENT
END:VCALENDAR