BEGIN:VCALENDAR
VERSION:2.0
PRODID:-//Kino Tuškanac//Filmski programi//HR
BEGIN:VEVENT
UID:33c8baf19c87129b46d3ad9a5cacbb48@kinotuskanac.hr
DTSTAMP:20260419T225219Z
DTSTART:20180912T210000
DTEND:20180912T230000
SUMMARY:Gloria (1980)
LOCATION:Kino Tuškanac
DESCRIPTION:SAD, 1980 R: John Cassavetes
END:VEVENT
END:VCALENDAR