BEGIN:VCALENDAR
VERSION:2.0
PRODID:-//Kino Tuškanac//Filmski programi//HR
BEGIN:VEVENT
UID:a07ba4f3b0b2ceb45dcdf0cb13c46042@kinotuskanac.hr
DTSTAMP:20260420T021823Z
DTSTART:20180913T190000
DTEND:20180913T210000
SUMMARY:Sjene
LOCATION:Kino Tuškanac
DESCRIPTION:Shadows, SAD, 1959 R: John Cassavetes
END:VEVENT
END:VCALENDAR