BEGIN:VCALENDAR
VERSION:2.0
PRODID:-//Kino Tuškanac//Filmski programi//HR
BEGIN:VEVENT
UID:6a4353797e9c4b48c08efca02144f462@kinotuskanac.hr
DTSTAMP:20260419T225020Z
DTSTART:20180913T210000
DTEND:20180913T230000
SUMMARY:Lica
LOCATION:Kino Tuškanac
DESCRIPTION:Faces, SAD, 1968 R: John Cassavetes
END:VEVENT
END:VCALENDAR