BEGIN:VCALENDAR
VERSION:2.0
PRODID:-//Kino Tuškanac//Filmski programi//HR
BEGIN:VEVENT
UID:86ce802dfbc0e99171b6ce8fffc53373@kinotuskanac.hr
DTSTAMP:20260420T012230Z
DTSTART:20180915T210000
DTEND:20180915T230000
SUMMARY:Ubojstvo kineskog kladioničara
LOCATION:Kino Tuškanac
DESCRIPTION:The Killing of a Chinese Bookie, SAD, 1976 R: John Cassavetes
END:VEVENT
END:VCALENDAR