BEGIN:VCALENDAR
VERSION:2.0
PRODID:-//Kino Tuškanac//Filmski programi//HR
BEGIN:VEVENT
UID:3580feeb2efe8f3241a245c88ceef08f@kinotuskanac.hr
DTSTAMP:20260420T170125Z
DTSTART:20180914T183000
DTEND:20180914T203000
SUMMARY:Žena pod utjecajem
LOCATION:Kino Tuškanac
DESCRIPTION:A Woman Under the Influence, SAD, 1974 R: John Cassavetes
END:VEVENT
END:VCALENDAR