BEGIN:VCALENDAR
VERSION:2.0
PRODID:-//Kino Tuškanac//Filmski programi//HR
BEGIN:VEVENT
UID:1bc5e73ea0fb71e1e8615700932aa926@kinotuskanac.hr
DTSTAMP:20260420T120428Z
DTSTART:20180917T190000
DTEND:20180917T210000
SUMMARY:Tijelo (2015)
LOCATION:Kino Tuškanac
DESCRIPTION:Cialo, Poljska, 2015 R: Małgorzata Szumowska
END:VEVENT
END:VCALENDAR