BEGIN:VCALENDAR
VERSION:2.0
PRODID:-//Kino Tuškanac//Filmski programi//HR
BEGIN:VEVENT
UID:111c5358ebfed3a7a1e5d6242d621c5c@kinotuskanac.hr
DTSTAMP:20260420T120627Z
DTSTART:20180917T210000
DTEND:20180917T230000
SUMMARY:Tragovi
LOCATION:Kino Tuškanac
DESCRIPTION:Pokot, Poljska, Njemačka, 2017 R: Agnieszka Holland
END:VEVENT
END:VCALENDAR