BEGIN:VCALENDAR
VERSION:2.0
PRODID:-//Kino Tuškanac//Filmski programi//HR
BEGIN:VEVENT
UID:e565f28c8dc5ae79ce37b36f664041a4@kinotuskanac.hr
DTSTAMP:20260424T182859Z
DTSTART:20180919T190000
DTEND:20180919T210000
SUMMARY:Portret Jasona
LOCATION:Kino Tuškanac
DESCRIPTION:Portrait of Jason, SAD, 1967 R: Shirley Clarke
END:VEVENT
END:VCALENDAR