BEGIN:VCALENDAR
VERSION:2.0
PRODID:-//Kino Tuškanac//Filmski programi//HR
BEGIN:VEVENT
UID:d30c8f6bc3e3d87ea2d5dbd571726ff3@kinotuskanac.hr
DTSTAMP:20260423T143946Z
DTSTART:20180920T210000
DTEND:20180920T230000
SUMMARY:Strašna istina
LOCATION:Kino Tuškanac
DESCRIPTION:The Awful Truth, SAD, 1937 R: Leo McCarey
END:VEVENT
END:VCALENDAR