BEGIN:VCALENDAR
VERSION:2.0
PRODID:-//Kino Tuškanac//Filmski programi//HR
BEGIN:VEVENT
UID:1ad527d11debfafe0e93792b897b93aa@kinotuskanac.hr
DTSTAMP:20260425T203711Z
DTSTART:20180922T190000
DTEND:20180922T210000
SUMMARY:Dogodilo se jedne noći
LOCATION:Kino Tuškanac
DESCRIPTION:It Happened One Night, SAD, 1934 R: Frank Capra
END:VEVENT
END:VCALENDAR