BEGIN:VCALENDAR
VERSION:2.0
PRODID:-//Kino Tuškanac//Filmski programi//HR
BEGIN:VEVENT
UID:e03fb5d48e6c91a47a0d4698f91e4fbe@kinotuskanac.hr
DTSTAMP:20260421T192240Z
DTSTART:20180925T210000
DTEND:20180925T230000
SUMMARY:Ja, bakica, Iliko i Ilarion
LOCATION:Kino Tuškanac
DESCRIPTION:Me, bebia, Iliko da Ilarioni, Gruzija/SSSR, 1962 R: Tengiz (Jevgenjevič) Abuladze
END:VEVENT
END:VCALENDAR