BEGIN:VCALENDAR
VERSION:2.0
PRODID:-//Kino Tuškanac//Filmski programi//HR
BEGIN:VEVENT
UID:67ded58ad50149d6d896d07a7ca32227@kinotuskanac.hr
DTSTAMP:20260422T123220Z
DTSTART:20181005T190000
DTEND:20181005T210000
SUMMARY:Crveni konj
LOCATION:Kino Tuškanac
DESCRIPTION:Crveniot konj, Makedonija, 1981 R: Stole Popov
END:VEVENT
END:VCALENDAR