BEGIN:VCALENDAR
VERSION:2.0
PRODID:-//Kino Tuškanac//Filmski programi//HR
BEGIN:VEVENT
UID:df1eb1829649bb3369ae0dfda57e0031@kinotuskanac.hr
DTSTAMP:20260422T112648Z
DTSTART:20050217T210000
DTEND:20050217T230000
SUMMARY:Proljeće
LOCATION:Kino Tuškanac
DESCRIPTION:Vesna, 1947 R: Grigorij Vasiljevič (Mormenko) Aleksandrov
END:VEVENT
END:VCALENDAR